Workbook
Name Credit_Card_Payment: 'List Fields'!$C$2
Name Employment_Status: 'List Fields'!$D$2:$D$6
Name Expenditure_Types: 'List Fields'!$E$2:$E$17
Name Pay_Frequency: 'List Fields'!$A$2:$A$6
Name Pension_Deflator: 'List Fields'!$B$2

Sheet Calculator
A1: Daily Interest Calculation
A2: Formulae for the calculator =
A3: pmt = pv * i / (1 - (1 + i) -n )
A5: As an example, let us take a mortgage of £100,000 over 25 years at the rate of 4.75% pa compounding monthly.
B7: Calculator for deal | G7: Calculator for base | L7: Calculator for Stress
B9: Formulae requirements | C9: Date Entry Cells | G9: Formulae requirements | H9: Date Entry Cells | L9: Formulae requirements | M9: Date Entry Cells
B11: Present value (loan amount) | C11: ='Affordability - BTL'!C72 -> 0 | G11: Present value (loan amount) | H11: =C11 -> 0 | L11: Present value (loan amount) | M11: =H11 -> 0
B13: Interest rate | C13: ='Affordability - BTL'!H72 -> 0 | D13: i | E13: =C13/12 -> 0 | G13: Interest rate | H13: 0.0724 | I13: i | J13: =H13/12 -> 0.0060333333 | L13: Interest rate | M13: =H13+0.02 -> 0.0924 | N13: i | O13: =M13/12 -> 0.0077
B15: Length of loan | C15: ='Affordability - BTL'!F72 -> 0 | D15: n | E15: =C15*12+'Affordability - BTL'!G72 -> 0 | G15: Length of loan | H15: =C15 -> 0 | I15: n | J15: =H15*12+'Affordability - BTL'!G72 -> 0 | L15: Length of loan | M15: =H15 -> 0 | N15: n | O15: =M15*12+'Affordability - BTL'!G72 -> 0
B17: Monthly Payment | D17: pmt | E17: =C29 -> #DIV/0! | G17: Monthly Payment | I17: pmt | J17: =H29 -> #DIV/0! | L17: Monthly Payment | N17: pmt | O17: =M29 -> #DIV/0!
B21: 1+ i = | C21: =1+E13 -> 1 | G21: 1+ i = | H21: =1+J13 -> 1.0060333 | L21: 1+ i = | M21: =1+O13 -> 1.0077
B23: (1+ i)^-n = | C23: =C21^-E15 -> 1 | G23: (1+ i)^-n = | H23: =H21^-J15 -> 1 | L23: (1+ i)^-n = | M23: =M21^-O15 -> 1
B25: (1 - (1 + i)^-n ) | C25: =1-C23 -> 0 | G25: (1 - (1 + i)^-n ) | H25: =1-H23 -> 0 | L25: (1 - (1 + i)^-n ) | M25: =1-M23 -> 0
B27: pv * i | C27: =C11*E13 -> 0 | G27: pv * i | H27: =H11*J13 -> 0 | L27: pv * i | M27: =M11*O13 -> 0
B29: pv x i / (1 - (1 + i) -n ) | C29: =C27/C25 -> #DIV/0! | G29: pv x i / (1 - (1 + i) -n ) | H29: =H27/H25 -> #DIV/0! | L29: pv x i / (1 - (1 + i) -n ) | M29: =M27/M25 -> #DIV/0!
B32: CSR 2 MDINT Payment | C32: 570.12 | G32: CSR 2 MDINT Payment | H32: 570.12 | L32: CSR 2 MDINT Payment | M32: 570.12
B34: Difference | C34: =C29-C32 -> #DIV/0! | G34: Difference | H34: =H29-H32 -> #DIV/0! | L34: Difference | M34: =M29-M32 -> #DIV/0!
B38: Key | G38: Key | L38: Key
B39: Data Entry Cells | G39: Data Entry Cells | L39: Data Entry Cells
B40: Formula answer | G40: Formula answer | L40: Formula answer
B42: Second line option
B43: Calculator for deal | G43: Calculator for base | L43: Calculator for Stress
B45: Formulae requirements | C45: Date Entry Cells | G45: Formulae requirements | H45: Date Entry Cells | L45: Formulae requirements | M45: Date Entry Cells
B47: Present value (loan amount) | C47: ='Affordability - BTL'!C74 -> 0 | G47: Present value (loan amount) | H47: =C47 -> 0 | L47: Present value (loan amount) | M47: =H47 -> 0
B49: Interest rate | C49: ='Affordability - BTL'!H74 -> 0 | D49: i | E49: =C49/12 -> 0 | G49: Interest rate | H49: =H13 -> 0.0724 | I49: i | J49: =H49/12 -> 0.0060333333 | L49: Interest rate | M49: =H49+0.02 -> 0.0924 | N49: i | O49: =M49/12 -> 0.0077
B51: Length of loan | C51: ='Affordability - BTL'!F74 -> 0 | D51: n | E51: =C51*12+'Affordability - BTL'!G74 -> 0 | G51: Length of loan | H51: =C51 -> 0 | I51: n | J51: =H51*12+'Affordability - BTL'!G74 -> 0 | L51: Length of loan | M51: =H51 -> 0 | N51: n | O51: =M51*12+'Affordability - BTL'!G74 -> 0
B53: Monthly Payment | D53: pmt | E53: =C65 -> 0 | G53: Monthly Payment | I53: pmt | J53: =H65 -> 0 | L53: Monthly Payment | N53: pmt | O53: =M65 -> 0
B57: 1+ i = | G57: 1+ i = | L57: 1+ i =
B59: (1+ i)^-n = | G59: (1+ i)^-n = | L59: (1+ i)^-n =
B61: (1 - (1 + i)^-n ) | G61: (1 - (1 + i)^-n ) | L61: (1 - (1 + i)^-n )
B63: pv * i | G63: pv * i | L63: pv * i
B65: pv x i / (1 - (1 + i) -n ) | C65: =C47*C49/12 -> 0 | G65: pv x i / (1 - (1 + i) -n ) | H65: =H47*H49/12 -> 0 | L65: pv x i / (1 - (1 + i) -n ) | M65: =M47*M49/12 -> 0
H66: =H47*H49/12 -> 0
B68: CSR 2 MDINT Payment | C68: 570.12 | G68: CSR 2 MDINT Payment | H68: 570.12 | L68: CSR 2 MDINT Payment | M68: 570.12
B70: Difference | C70: =C65-C68 -> -570.12 | G70: Difference | H70: =H65-H68 -> -570.12 | L70: Difference | M70: =M65-M68 -> -570.12
B74: Key | G74: Key | L74: Key
B75: Data Entry Cells | G75: Data Entry Cells | L75: Data Entry Cells
B76: Formula answer | G76: Formula answer | L76: Formula answer

Sheet Affordability - BTL
B2: Affordability Assessment - Buy To Let
A9: Borrower(s): | J9: Data entry fields
A10: Number of Dependants:
A13: Standard Income Multiples = Single x 5.00 Joint x 5.00 Up to 80% LTV
A14: Standard Income Multiples = Single x 4.75 Joint x 4.75 Up to 85% LTV
A15: Standard Income Multiples = Single x 4.50 Joint x 4.50 Up to 90% LTV
A16: Standard Income Multiples = Single x 4.25 Joint x 4.25 Up to 95% LTV
A18: Income | B18: Gross Annual (1) | C18: Gross Annual (2) | D18: Gross Annual (1) | E18: Gross Annual (2) | F18: Net Monthly | J18: Net Monthly | L18: Net Monthly | O18: Net Monthly
D19: £ | F19: £ | J19: £ | L19: £ | O19: £
A20: Employment | B20: 0 | C20: 0 | D20: =B20 -> 0 | E20: =C20 -> 0
A21: Guaranteed Overtime | B21: 0 | C21: 0 | D21: =B21 -> 0 | E21: =C21 -> 0
A22: Irregular Overtime | B22: 0 | C22: 0 | D22: =B22*0.5 -> 0 | E22: =C22*0.5 -> 0
A23: Bonus/Commission | B23: 0 | C23: 0 | D23: =B23*0.5 -> 0 | E23: =C23*0.5 -> 0
A24: Rental Income | B24: 0 | C24: 0 | D24: =B24*0.75 -> 0 | E24: =C24*0.75 -> 0
A25: Other income | B25: 0 | C25: 0 | D25: =B25*0.5 -> 0 | E25: =C25*0.5 -> 0
A27: Total (A) | B27: =SUM(B20:B26) -> 0 | C27: =SUM(C20:C26) -> 0 | D27: =SUM(D20:D26) -> 0 | E27: =SUM(E20:E25) -> 0 | F27: ='Net (1) workings'!C21+'Net (2) workings'!C21 -> 0 | J27: =F27 -> 0 | L27: =J27 -> 0 | O27: =L27 -> 0
A28: Annual (net) | B28: ='Net (1) workings'!B21 -> 0 | C28: ='Net (2) workings'!B21 -> 0
A29: Monthly (net) | B29: ='Net (1) workings'!C21 -> 0 | C29: ='Net (2) workings'!C21 -> 0
A31: Annual (net) | B31: ='Net (1) workings'!B21 -> 0 | C31: ='Net (2) workings'!B21 -> 0
A33: Expenditure | F33: Monthly
F34: £ | J34: £ | L34: £ | O34: £
A35: Committed expenditure
A36: Loans/HP | F36: 0
A37: Credit cards | F37: 0
A38: Childcare | F38: 0
A39: Alimony/maintenance | F39: 0
A40: Cost of repayment strategy (interest only) | F40: 0
A41: Cost of other mortgages not to be repaid | F41: 0
A42: Total Commited Expenditure | F42: =SUM(F36:F41) -> 0
A44: Basic essential expenditure
A45: Housekeeping/food/washing | F45: 0
A46: Gas/electricity/oil | F46: 0
A47: Rates & Ground Rent | F47: 0
A48: Telephone(s) | F48: 0
A49: Buildings insurance | F49: 0
A50: Service Charge | F50: 0
A51: Motoring - Petrol, insurance, tax | F51: 0
A52: Transport | F52: 0
A53: Basic quality of living costs
A54: Clothing | F54: 0
...

Sheet Income
B2: Income
A7: Data entry fields
A8: Calculated Field
A10: Applicant 1 - Income | D10: Employment Status
A12: Category | B12: Pay 1 | C12: Pay 2 | D12: Pay 3 | E12: Average | F12: Pay Frequency | H12: Gross Annual
A13: Employment | E13: =IFERROR((B13+C13+D13)/COUNTA(B13:D13),0) -> 0 | F13: Monthly | H13: =IF(F13="Monthly",E13*12,IF(F13="Bi-Weekly",E13*26,IF(F13="4-Weekly",E13*13,IF(F13="Weekly",E13*52,IF(F13="Annual",E13,0))))) -> 0
A14: Regular Overtime | E14: =IFERROR((B14+C14+D14)/COUNTA(B14:D14),0) -> 0 | F14: Monthly | H14: =IF(F14="Monthly",E14*12,IF(F14="Bi-Weekly",E14*26,IF(F14="4-Weekly",E14*13,IF(F14="Weekly",E14*52,IF(F14="Annual",E14,0))))) -> 0
A15: Irregular overtime | E15: =IFERROR((B15+C15+D15)/COUNTA(B15:D15),0) -> 0 | F15: Monthly | H15: =IF(F15="Monthly",E15*12,IF(F15="Bi-Weekly",E15*26,IF(F15="4-Weekly",E15*13,IF(F15="Weekly",E15*52,IF(F15="Annual",E15,0))))) -> 0
A16: Bonus/Comission | E16: =IFERROR((B16+C16+D16)/COUNTA(B16:D16),0) -> 0 | F16: Monthly | H16: =IF(F16="Monthly",E16*12,IF(F16="Bi-Weekly",E16*26,IF(F16="4-Weekly",E16*13,IF(F16="Weekly",E16*52,IF(F16="Annual",E16,0))))) -> 0
A17: Rental income | E17: =IFERROR((B17+C17+D17)/COUNTA(B17:D17),0) -> 0 | F17: Monthly | H17: =IF(F17="Monthly",E17*12,IF(F17="Bi-Weekly",E17*26,IF(F17="4-Weekly",E17*13,IF(F17="Weekly",E17*52,IF(F17="Annual",E17,0))))) -> 0
A18: Other income | E18: =IFERROR((B18+C18+D18)/COUNTA(B18:D18),0) -> 0 | F18: Monthly | H18: =IF(F18="Monthly",E18*12,IF(F18="Bi-Weekly",E18*26,IF(F18="4-Weekly",E18*13,IF(F18="Weekly",E18*52,IF(F18="Annual",E18,0))))) -> 0
A20: Annual Bonus
H23: Monthly Cost
A24: Pension | E24: =IFERROR((B24+C24+D24)/COUNTA(B24:D24),0) -> 0 | H24: =E24*Pension_Deflator -> 0
A25: Student Loan | E25: =IFERROR((B25+C25+D25)/COUNTA(B25:D25),0) -> 0 | H25: =E25 -> 0
A29: Applicant 2 - Income | D29: Employment Status
A31: Category | B31: Pay 1 | C31: Pay 2 | D31: Pay 3 | E31: Average | F31: Pay Frequency | H31: Gross Annual
A32: Employment | E32: =IFERROR((B32+C32+D32)/COUNTA(B32:D32),0) -> 0 | F32: Monthly | H32: =IF(F32="Monthly",E32*12,IF(F32="Bi-Weekly",E32*26,IF(F32="4-Weekly",E32*13,IF(F32="Weekly",E32*52,IF(F32="Annual",E32,0))))) -> 0
A33: Regular Overtime | E33: =IFERROR((B33+C33+D33)/COUNTA(B33:D33),0) -> 0 | F33: Monthly | H33: =IF(F33="Monthly",E33*12,IF(F33="Bi-Weekly",E33*26,IF(F33="4-Weekly",E33*13,IF(F33="Weekly",E33*52,IF(F33="Annual",E33,0))))) -> 0
A34: Irregular overtime | E34: =IFERROR((B34+C34+D34)/COUNTA(B34:D34),0) -> 0 | F34: Monthly | H34: =IF(F34="Monthly",E34*12,IF(F34="Bi-Weekly",E34*26,IF(F34="4-Weekly",E34*13,IF(F34="Weekly",E34*52,IF(F34="Annual",E34,0))))) -> 0
A35: Bonus/Comission | E35: =IFERROR((B35+C35+D35)/COUNTA(B35:D35),0) -> 0 | F35: Monthly | H35: =IF(F35="Monthly",E35*12,IF(F35="Bi-Weekly",E35*26,IF(F35="4-Weekly",E35*13,IF(F35="Weekly",E35*52,IF(F35="Annual",E35,0))))) -> 0
A36: Rental income | E36: =IFERROR((B36+C36+D36)/COUNTA(B36:D36),0) -> 0 | F36: Monthly | H36: =IF(F36="Monthly",E36*12,IF(F36="Bi-Weekly",E36*26,IF(F36="4-Weekly",E36*13,IF(F36="Weekly",E36*52,IF(F36="Annual",E36,0))))) -> 0
A37: Other income | E37: =IFERROR((B37+C37+D37)/COUNTA(B37:D37),0) -> 0 | F37: Monthly | H37: =IF(F37="Monthly",E37*12,IF(F37="Bi-Weekly",E37*26,IF(F37="4-Weekly",E37*13,IF(F37="Weekly",E37*52,IF(F37="Annual",E37,0))))) -> 0
A39: Annual Bonus
H42: Monthly Cost
A43: Pension | E43: =IFERROR((B43+C43+D43)/COUNTA(B43:D43),0) -> 0 | H43: =E43*Pension_Deflator -> 0
A44: Student Loan | E44: =IFERROR((B44+C44+D44)/COUNTA(B44:D44),0) -> 0 | H44: =E44 -> 0
A48: NOTES:

Sheet Expenditure
B2: Expenditure
A7: Data entry fields
A8: Calculated Field
A10: Committed expenditure
A11: Loans/HP | B11: Balance | C11: Monthly Payment | E11: Credit cards | F11: Balance
A12: Loan 1 | E12: Credit Card 1
A13: Loan 2 | E13: Credit Card 2
A14: Loan 3 | E14: Credit Card 3
A15: Loan 4 | E15: Credit Card 4
A16: Loan 5 | E16: Credit Card 5
A17: Loan 6 | E17: Credit Card 6
A18: Loan 7 | E18: Credit Card 7
A19: Loan 8 | E19: Credit Card 8
A20: Loan 9 | E20: Credit Card 9
A21: Loan 10 | E21: Credit Card 10
A22: Total | B22: =SUM(B12:B21) -> 0 | C22: =SUM(C12:C21) -> 0 | E22: Total | F22: =SUM(F12:F21) -> 0
A25: Committed expenditure
A26: Loans/HP | C26: =C22 -> 0
A27: Credit cards | C27: =F22*Credit_Card_Payment -> 0
A28: Childcare
A29: Alimony/maintenance
A30: Cost of repayment strategy
A31: Cost of other mortgages not to be repaid
A34: Bank Statement Review
A35: Expenditure Type | B35: Month 1 | C35: Month 2 | D35: Month 3 | E35: Monthly Average | F35: Category for AA | G35: Notes
E36: =IFERROR((B36+C36+D36)/COUNTA(B36:D36),0) -> 0 | H36: Housekeeping/food/washing
E37: =IFERROR((B37+C37+D37)/COUNTA(B37:D37),0) -> 0 | H37: Gas/electricity/oil
E38: =IFERROR((B38+C38+D38)/COUNTA(B38:D38),0) -> 0 | H38: Rates & Ground Rent
E39: =IFERROR((B39+C39+D39)/COUNTA(B39:D39),0) -> 0 | H39: Telephone(s)
E40: =IFERROR((B40+C40+D40)/COUNTA(B40:D40),0) -> 0 | H40: Buildings insurance
E41: =IFERROR((B41+C41+D41)/COUNTA(B41:D41),0) -> 0 | H41: Service Charge
E42: =IFERROR((B42+C42+D42)/COUNTA(B42:D42),0) -> 0 | H42: Motoring - Petrol, insurance, tax
E43: =IFERROR((B43+C43+D43)/COUNTA(B43:D43),0) -> 0 | H43: Transport
E44: =IFERROR((B44+C44+D44)/COUNTA(B44:D44),0) -> 0 | H44: Clothing
E45: =IFERROR((B45+C45+D45)/COUNTA(B45:D45),0) -> 0 | H45: Household goods (furniture, appliances)
E46: =IFERROR((B46+C46+D46)/COUNTA(B46:D46),0) -> 0 | H46: Personal goods (toiletries etc)
E47: =IFERROR((B47+C47+D47)/COUNTA(B47:D47),0) -> 0 | H47: Basic recreation
... E51: =IFERROR((B51+C51+D51)/COUNTA(B51:D51),0) -> 0 | H51: Not included in AA
E52: =IFERROR((B52+C52+D52)/COUNTA(B52:D52),0) -> 0
E53: =IFERROR((B53+C53+D53)/COUNTA(B53:D53),0) -> 0
...

Sheet List Fields
A1: Pay Frequency | B1: Pension Deflator | C1: Credit Card Payment | D1: Employment Status | E1: Expenditure Types
A2: Weekly | B2: 0.8 | C2: 0.03 | D2: Employed | E2: Housekeeping/food/washing
A3: Bi-Weekly | D3: Self Employed | E3: Gas/electricity/oil
A4: 4-Weekly | D4: Homemaker | E4: Rates & Ground Rent
A5: Monthly | D5: Retired | E5: Telephone(s)
A6: Annual | D6: Other | E6: Buildings insurance
E7: Service Charge
E8: Motoring - Petrol, insurance, tax
E9: Transport
E10: Clothing
E11: Household goods (furniture, appliances)
E12: Personal goods (toiletries etc)
E13: Basic recreation
E14: Life insurance/pension
E15: Other
E16: Included in committed expenditure
E17: Not included in AA

Sheet Net (1) workings
F1: Tax Free Allowance | H1: =12570-B33 -> 12570
B2: Annual | C2: Monthly
F3: Tax Rate | G3: Income Range
A4: Gross Annual Income | B4: ='Affordability - BTL'!D27 -> 0 | C4: =B4/12 -> 0 | F4: 0.2 | G4: 0 to | H4: 37700
F5: 0.4 | G5: 37701 to | H5: 125140
A6: Tax Free Allowance | B6: =IF(B4<125140,H1,0) -> 12570 | C6: =B6/12 -> 1047.5 | F6: 0.45 | G6: > 125140
A8: Taxable Amount | B8: =IF((B4-B6)>0,B4-B6,0) -> 0 | C8: =IF((C4-C6)>0,C4-C6,0) -> 0 | F8: NIC Rate | G8: Weekly Inc
F9: 0 | G9: 0 to | H9: 190
A10: Tax @ 20% | B10: =IF(B8<H4,B8*F4,H4*F4) -> 0 | F10: 0.12 | G10: 190.01 to | H10: 967
A11: Tax @ 40% | B11: =IF(AND(B8<H5,B8>H4),(B8-H4)*F5,IF(B8<H4,0,IF(B8>H5,(H5-H4)*F5,0))) -> 0 | F11: 0.02 | G11: > 967
A12: Tax @ 50% | B12: =IF(B8>H5,(B8-H5)*F6,0) -> 0 | F12: NIC Rate | G12: Monthly Inc
A13: Total Tax | B13: =SUM(B10:B12) -> 0 | C13: =B13/12 -> 0 | F13: 0 | G13: 0 to | H13: 1048
F14: 0.08 | G14: 823.01 to | H14: 4189
A15: National Insurance NIL | B15: =C15*12 -> 0 | C15: =(C4-H13)*F13 -> 0 | F15: 0.02 | G15: > 4189
A16: National Insurance 12% | B16: =C16*12 -> 0 | C16: =IF(AND(C4<H14,C4>H13),(C4-H13)*F14,IF(C4<H13,0,IF(C4>H14,(H14-H13)*F14,0))) -> 0
A17: National Insurance 2% | B17: =C17*12 -> 0 | C17: =IF(C4>H14,(C4-H14)*F15,0) -> 0
A18: Total National Insurance | B18: =SUM(B15:B17) -> 0 | C18: =SUM(C15:C17) -> 0
A21: Net | B21: =B4-B13-B18 -> 0 | C21: =C4-C13-C18 -> 0
A26: Higher rate threshold | B26: 100000
A27: Total Income | B27: =B4 -> 0
A29: Amount above threshold | B29: =B27-B26 -> -100000
A30: Reduction in Tax free amount | B30: =B29/2 -> -50000
B33: =IF(B30>0,B30,0) -> 0
B34: =IF(B30>11850,0,B30) -> -50000

Sheet Net (2) workings
F1: Tax Free Allowance | H1: =12570-B33 -> 12570
B2: Annual | C2: Monthly
F3: Tax Rate | G3: Income Range
A4: Gross Annual Income | B4: ='Affordability - BTL'!E27 -> 0 | C4: =B4/12 -> 0 | F4: ='Net (1) workings'!F4 -> 0.2 | G4: ='Net (1) workings'!G4:H6 -> 0 to | H4: ='Net (1) workings'!H4:I6 -> 37700
F5: ='Net (1) workings'!F5 -> 0.4 | G5: ='Net (1) workings'!G5:H7 -> 37701 to | H5: ='Net (1) workings'!H5:I7 -> 125140
A6: Tax Free Allowance | B6: =IF(B4<125140,H1,0) -> 12570 | C6: =B6/12 -> 1047.5 | F6: ='Net (1) workings'!F6 -> 0.45 | G6: ='Net (1) workings'!G6:H8 -> > 125140
A8: Taxable Amount | B8: =IF((B4-B6)>0,B4-B6,0) -> 0 | C8: =IF((C4-C6)>0,C4-C6,0) -> 0 | F8: NIC Rate | G8: Weekly Inc
F9: ='Net (1) workings'!F9 -> 0 | G9: ='Net (1) workings'!G9:H11 -> 0 to | H9: ='Net (1) workings'!H9:I11 -> 190
A10: Tax @ 20% | B10: =IF(B8<H4,B8*F4,H4*F4) -> 0 | F10: ='Net (1) workings'!F10 -> 0.12 | G10: ='Net (1) workings'!G10:H12 -> 190.01 to | H10: ='Net (1) workings'!H10:I12 -> 967
A11: Tax @ 40% | B11: =IF(AND(B8<H5,B8>H4),(B8-H4)*F5,IF(B8<H4,0,IF(B8>H5,(H5-H4)*F5,0))) -> 0 | F11: ='Net (1) workings'!F11 -> 0.02 | G11: ='Net (1) workings'!G11:H13 -> > 967
A12: Tax @ 45% | B12: =IF(B8>H5,(B8-H5)*F6,0) -> 0 | F12: NIC Rate | G12: Monthly Inc
A13: Total Tax | B13: =SUM(B10:B12) -> 0 | C13: =B13/12 -> 0 | F13: ='Net (1) workings'!F13 -> 0 | G13: ='Net (1) workings'!G13:H15 -> 0 to | H13: ='Net (1) workings'!H13:I15 -> 1048
F14: ='Net (1) workings'!F14 -> 0.08 | G14: ='Net (1) workings'!G14:H16 -> 823.01 to | H14: ='Net (1) workings'!H14:I16 -> 4189
A15: National Insurance NIL | B15: =C15*12 -> 0 | C15: =(C4-H13)*F13 -> 0 | F15: ='Net (1) workings'!F15 -> 0.02 | G15: ='Net (1) workings'!G15:H17 -> > 4189
A16: National Insurance 12% | B16: =C16*12 -> 0 | C16: =IF(AND(C4<H14,C4>H13),(C4-H13)*F14,IF(C4<H13,0,IF(C4>H14,(H14-H13)*F14,0))) -> 0
A17: National Insurance 2% | B17: =C17*12 -> 0 | C17: =IF(C4>H14,(C4-H14)*F15,0) -> 0
A18: Total National Insurance | B18: =SUM(B15:B17) -> 0 | C18: =SUM(C15:C17) -> 0
A21: Net | B21: =B4-B13-B18 -> 0 | C21: =C4-C13-C18 -> 0
A26: Higher rate threshold | B26: ='Net (1) workings'!B26 -> 100000
A27: Total Income | B27: =B4 -> 0
A29: Amount above threshold | B29: =B27-B26 -> -100000
A30: Reduction in Tax free amount | B30: =B29/2 -> -50000
B33: =IF(B30>0,B30,0) -> 0
B34: =IF(B30>11850,0,B30) -> -50000
